BEGIN:VCALENDAR
VERSION:2.0
PRODID:-//RCT - Reconnective Therapy | Kerstin Schön - ECPv6.15.20//NONSGML v1.0//EN
CALSCALE:GREGORIAN
METHOD:PUBLISH
X-WR-CALNAME:RCT - Reconnective Therapy | Kerstin Schön
X-ORIGINAL-URL:https://www.reconnectivetherapy.com
X-WR-CALDESC:Events for RCT - Reconnective Therapy | Kerstin Schön
REFRESH-INTERVAL;VALUE=DURATION:PT1H
X-Robots-Tag:noindex
X-PUBLISHED-TTL:PT1H
BEGIN:VTIMEZONE
TZID:Europe/Berlin
BEGIN:DAYLIGHT
TZOFFSETFROM:+0100
TZOFFSETTO:+0200
TZNAME:CEST
DTSTART:20200329T010000
END:DAYLIGHT
BEGIN:STANDARD
TZOFFSETFROM:+0200
TZOFFSETTO:+0100
TZNAME:CET
DTSTART:20201025T010000
END:STANDARD
BEGIN:DAYLIGHT
TZOFFSETFROM:+0100
TZOFFSETTO:+0200
TZNAME:CEST
DTSTART:20210328T010000
END:DAYLIGHT
BEGIN:STANDARD
TZOFFSETFROM:+0200
TZOFFSETTO:+0100
TZNAME:CET
DTSTART:20211031T010000
END:STANDARD
BEGIN:DAYLIGHT
TZOFFSETFROM:+0100
TZOFFSETTO:+0200
TZNAME:CEST
DTSTART:20220327T010000
END:DAYLIGHT
BEGIN:STANDARD
TZOFFSETFROM:+0200
TZOFFSETTO:+0100
TZNAME:CET
DTSTART:20221030T010000
END:STANDARD
END:VTIMEZONE
BEGIN:VEVENT
DTSTART;VALUE=DATE:20210722
DTEND;VALUE=DATE:20210723
DTSTAMP:20260419T193320
CREATED:20210701T094747Z
LAST-MODIFIED:20210701T094800Z
UID:10000046-1626912000-1626998399@www.reconnectivetherapy.com
SUMMARY:School of Life – Special Edition Life and Death
DESCRIPTION:Prerequisite: none \nDates:  \nThursday\, April 1\nThursday\, April 15\nThursday\, April 29\nThursday\, May 13\nTuesday\, May 25\nThursday\, June 10\nTuesday\, June 22 \nTime: 5:00pm – 6:00pm PT \nFacilitated by: Kerstin Schoen \nRegistration Deadline: 11:00am PT\, March 30th \nCost: $400
URL:https://www.reconnectivetherapy.com/event/school-of-life-special-edition-life-and-death/
END:VEVENT
END:VCALENDAR