BEGIN:VCALENDAR
VERSION:2.0
PRODID:-//RCT - Reconnective Therapy | Kerstin Schön - ECPv6.15.20//NONSGML v1.0//EN
CALSCALE:GREGORIAN
METHOD:PUBLISH
X-ORIGINAL-URL:https://www.reconnectivetherapy.com
X-WR-CALDESC:Events for RCT - Reconnective Therapy | Kerstin Schön
REFRESH-INTERVAL;VALUE=DURATION:PT1H
X-Robots-Tag:noindex
X-PUBLISHED-TTL:PT1H
BEGIN:VTIMEZONE
TZID:America/Los_Angeles
BEGIN:DAYLIGHT
TZOFFSETFROM:-0800
TZOFFSETTO:-0700
TZNAME:PDT
DTSTART:20250309T100000
END:DAYLIGHT
BEGIN:STANDARD
TZOFFSETFROM:-0700
TZOFFSETTO:-0800
TZNAME:PST
DTSTART:20251102T090000
END:STANDARD
BEGIN:DAYLIGHT
TZOFFSETFROM:-0800
TZOFFSETTO:-0700
TZNAME:PDT
DTSTART:20260308T100000
END:DAYLIGHT
BEGIN:STANDARD
TZOFFSETFROM:-0700
TZOFFSETTO:-0800
TZNAME:PST
DTSTART:20261101T090000
END:STANDARD
BEGIN:DAYLIGHT
TZOFFSETFROM:-0800
TZOFFSETTO:-0700
TZNAME:PDT
DTSTART:20270314T100000
END:DAYLIGHT
BEGIN:STANDARD
TZOFFSETFROM:-0700
TZOFFSETTO:-0800
TZNAME:PST
DTSTART:20271107T090000
END:STANDARD
END:VTIMEZONE
BEGIN:VEVENT
DTSTART;TZID=America/Los_Angeles:20261008T090000
DTEND;TZID=America/Los_Angeles:20261008T103000
DTSTAMP:20260420T042856
CREATED:20251129T202014Z
LAST-MODIFIED:20251129T202014Z
UID:10001971-1791450000-1791455400@www.reconnectivetherapy.com
SUMMARY:Online Awareness and Transformation Group
DESCRIPTION:[vc_row][vc_column width=”1/2″][vc_column_text css=””] \nOnline Awareness and Transformation Group\nHealing and support in your health\, relationships\, emotions\, thoughts\, and repetitive patterns.\nPrerequisite: None \nDate: Thursday\, October 8 \nTime: 9:00am – 10:30am PT \nFacilitated by: Kerstin Schoen \nRegistration Deadline: 11:00am PT\, October 5 \nCost: $70[/vc_column_text][/vc_column][vc_column width=”1/2″][vc_single_image image=”12206″ img_size=”medium”][/vc_column][/vc_row][vc_row][vc_column width=”1/5″][vc_btn title=”Learn More” color=”primary” link=”url:https%3A%2F%2Fwww.reconnectivetherapy.com%2Fhealing%2Frct-healing-work%2Ftreatment-groups%2F”][/vc_column][vc_column width=”1/5″][vc_btn title=”Pay & Register Online” color=”primary” css=”” link=”url:https%3A%2F%2Freconnective-therapy-shop.myshopify.com%2Fcollections%2Frct-events%2Fproducts%2Frct-online-awareness-transformation-groups-copy-for-2025%3Fvariant%3D41384859041838″][/vc_column][vc_column width=”1/5″][/vc_column][vc_column width=”1/5″][/vc_column][vc_column width=”1/5″][/vc_column][/vc_row][vc_row][vc_column][/vc_column][/vc_row]
URL:https://www.reconnectivetherapy.com/event/online-awareness-and-transformation-group-46/
ATTACH;FMTTYPE=image/jpeg:https://www.reconnectivetherapy.com/wp-content/uploads/2021/07/metam.jpg
END:VEVENT
BEGIN:VEVENT
DTSTART;TZID=America/Los_Angeles:20261112T090000
DTEND;TZID=America/Los_Angeles:20261112T103000
DTSTAMP:20260420T042856
CREATED:20251129T202058Z
LAST-MODIFIED:20251129T202058Z
UID:10001972-1794474000-1794479400@www.reconnectivetherapy.com
SUMMARY:Online Awareness and Transformation Group
DESCRIPTION:[vc_row][vc_column width=”1/2″][vc_column_text css=””] \nOnline Awareness and Transformation Group\nHealing and support in your health\, relationships\, emotions\, thoughts\, and repetitive patterns.\nPrerequisite: None \nDate: Thursday\, November 12 \nTime: 9:00am – 10:30am PT \nFacilitated by: Kerstin Schoen \nRegistration Deadline: 11:00am PT\, November 9 \nCost: $70[/vc_column_text][/vc_column][vc_column width=”1/2″][vc_single_image image=”12206″ img_size=”medium”][/vc_column][/vc_row][vc_row][vc_column width=”1/5″][vc_btn title=”Learn More” color=”primary” link=”url:https%3A%2F%2Fwww.reconnectivetherapy.com%2Fhealing%2Frct-healing-work%2Ftreatment-groups%2F”][/vc_column][vc_column width=”1/5″][vc_btn title=”Pay & Register Online” color=”primary” css=”” link=”url:https%3A%2F%2Freconnective-therapy-shop.myshopify.com%2Fcollections%2Frct-events%2Fproducts%2Frct-online-awareness-transformation-groups-copy-for-2025%3Fvariant%3D41384859074606″][/vc_column][vc_column width=”1/5″][/vc_column][vc_column width=”1/5″][/vc_column][vc_column width=”1/5″][/vc_column][/vc_row][vc_row][vc_column][/vc_column][/vc_row]
URL:https://www.reconnectivetherapy.com/event/online-awareness-and-transformation-group-47/
ATTACH;FMTTYPE=image/jpeg:https://www.reconnectivetherapy.com/wp-content/uploads/2021/07/metam.jpg
END:VEVENT
BEGIN:VEVENT
DTSTART;TZID=America/Los_Angeles:20261210T090000
DTEND;TZID=America/Los_Angeles:20261210T103000
DTSTAMP:20260420T042856
CREATED:20251129T202155Z
LAST-MODIFIED:20251129T202155Z
UID:10001973-1796893200-1796898600@www.reconnectivetherapy.com
SUMMARY:Online Awareness and Transformation Group
DESCRIPTION:[vc_row][vc_column width=”1/2″][vc_column_text css=””] \nOnline Awareness and Transformation Group\nHealing and support in your health\, relationships\, emotions\, thoughts\, and repetitive patterns.\nPrerequisite: None \nDate: Thursday\, December 10 \nTime: 9:00am – 10:30am PT \nFacilitated by: Kerstin Schoen \nRegistration Deadline: 11:00am PT\, December 7 \nCost: $70[/vc_column_text][/vc_column][vc_column width=”1/2″][vc_single_image image=”12206″ img_size=”medium”][/vc_column][/vc_row][vc_row][vc_column width=”1/5″][vc_btn title=”Learn More” color=”primary” link=”url:https%3A%2F%2Fwww.reconnectivetherapy.com%2Fhealing%2Frct-healing-work%2Ftreatment-groups%2F”][/vc_column][vc_column width=”1/5″][vc_btn title=”Pay & Register Online” color=”primary” css=”” link=”url:https%3A%2F%2Freconnective-therapy-shop.myshopify.com%2Fcollections%2Frct-events%2Fproducts%2Frct-online-awareness-transformation-groups-copy-for-2025%3Fvariant%3D41384859107374″][/vc_column][vc_column width=”1/5″][/vc_column][vc_column width=”1/5″][/vc_column][vc_column width=”1/5″][/vc_column][/vc_row][vc_row][vc_column][/vc_column][/vc_row]
URL:https://www.reconnectivetherapy.com/event/online-awareness-and-transformation-group-48/
ATTACH;FMTTYPE=image/jpeg:https://www.reconnectivetherapy.com/wp-content/uploads/2021/07/metam.jpg
END:VEVENT
END:VCALENDAR